BEGIN:VCALENDAR
VERSION:2.0
PRODID:-//Love INC Madera - ECPv6.10.2//NONSGML v1.0//EN
CALSCALE:GREGORIAN
METHOD:PUBLISH
X-ORIGINAL-URL:https://dev40.getfeatherlight.com
X-WR-CALDESC:Events for Love INC Madera
REFRESH-INTERVAL;VALUE=DURATION:PT1H
X-Robots-Tag:noindex
X-PUBLISHED-TTL:PT1H
BEGIN:VTIMEZONE
TZID:America/Los_Angeles
BEGIN:DAYLIGHT
TZOFFSETFROM:-0800
TZOFFSETTO:-0700
TZNAME:PDT
DTSTART:20250309T100000
END:DAYLIGHT
BEGIN:STANDARD
TZOFFSETFROM:-0700
TZOFFSETTO:-0800
TZNAME:PST
DTSTART:20251102T090000
END:STANDARD
END:VTIMEZONE
BEGIN:VEVENT
DTSTART;TZID=America/Los_Angeles:20250322T100000
DTEND;TZID=America/Los_Angeles:20250322T110000
DTSTAMP:20260421T113407
CREATED:20250319T191702Z
LAST-MODIFIED:20250320T174502Z
UID:10000002-1742637600-1742641200@dev40.getfeatherlight.com
SUMMARY:Volunteer Workshop
DESCRIPTION:Do you have a calling or desire to share the love & kindness of Christ to others? \nTHIS IS YOUR CHANCE TO LEARN HOW! \nDETAILS:Saturday\, March 22nd\, 2025Time: 10:00amLocation: Grace Point Ministries\, 1033 E Kennedy St. Madera 93638 \nCall Adriene to Register:(559) 536-3496 \nFinger Foods Provided! \nMore information: ☎️ (559) 536-3496
URL:https://dev40.getfeatherlight.com/event/volunteer-workshop/
LOCATION:Grace Point Ministries\, 1033 E Kennedy St.\, Madera\, CA\, 93638\, United States
ATTACH;FMTTYPE=image/jpeg:https://dev40.getfeatherlight.com/wp-content/uploads/2025/03/IMG_0125.jpg
END:VEVENT
END:VCALENDAR