BEGIN:VCALENDAR
VERSION:2.0
PRODID:-//Love INC Madera - ECPv6.10.2//NONSGML v1.0//EN
CALSCALE:GREGORIAN
METHOD:PUBLISH
X-WR-CALNAME:Love INC Madera
X-ORIGINAL-URL:https://dev40.getfeatherlight.com
X-WR-CALDESC:Events for Love INC Madera
REFRESH-INTERVAL;VALUE=DURATION:PT1H
X-Robots-Tag:noindex
X-PUBLISHED-TTL:PT1H
BEGIN:VTIMEZONE
TZID:America/Los_Angeles
BEGIN:DAYLIGHT
TZOFFSETFROM:-0800
TZOFFSETTO:-0700
TZNAME:PDT
DTSTART:20250309T100000
END:DAYLIGHT
BEGIN:STANDARD
TZOFFSETFROM:-0700
TZOFFSETTO:-0800
TZNAME:PST
DTSTART:20251102T090000
END:STANDARD
END:VTIMEZONE
BEGIN:VEVENT
DTSTART;TZID=America/Los_Angeles:20250425T140000
DTEND;TZID=America/Los_Angeles:20250425T180000
DTSTAMP:20260421T055403
CREATED:20250320T174237Z
LAST-MODIFIED:20250320T174237Z
UID:10000004-1745589600-1745604000@dev40.getfeatherlight.com
SUMMARY:Rummage Sale Donation Drop-Off
DESCRIPTION:Clear out clutter for a cause by donating gently used items to Love INC Madera’s Rummage Sale! Drop off your donations between 10 AM–1 PM or 2 PM–6 PM to help support local families in need.
URL:https://dev40.getfeatherlight.com/event/rummage-sale-donation-drop-off/2025-04-25/2/
LOCATION:Love INC Madera Office\, 880 S Pine St\, Madera\, Madera\, CA\, 93637\, United States
ATTACH;FMTTYPE=image/jpeg:https://dev40.getfeatherlight.com/wp-content/uploads/2025/03/AdobeStock_183527396.jpeg
END:VEVENT
END:VCALENDAR